Workbook

Sheet EX2-Postings 2016
B2: Date | C2: Transaction | D2: DR | E2: CR | F2: Layer | G2: Amount | H2: Comment
B3: 42374 | C3: Investor puts money in | D3: 110130 Bank | E3: 300110 Capital stock | F3: CUR | G3: 5000000
B4: 42380 | C4: Sale of services | D4: 130100 Accounts Receivable | E4: 401300 Revenues | F4: CUR | G4: 800000
B5: 42383 | C5: Purchase of FA No. 1 | D5: 180150 Fixed assets | E5: 200100 Accounts Payable | F5: CUR | G5: 250000
C6: Purchase of FA No. 1 | D6: 180150 Fixed assets | E6: 900001 OP Bridge | F6: OP | G6: 250000
C7: Purchase of FA No. 1 | D7: 180150 Fixed assets | E7: 90002 Tax Bridge | F7: TAX | G7: 250000
C8: Purchase of FA No. 2 | D8: 180150 Fixed assets | E8: 200100 Accounts Payable | F8: CUR | G8: 90000
C9: Purchase of FA No. 2 | D9: 180150 Fixed assets | E9: 900001 OP Bridge | F9: OP | G9: 90000
C10: Purchase of FA No. 2 | D10: 180150 Fixed assets | E10: 90002 Tax Bridge | F10: TAX | G10: 90000
C11: Auto reversal delta postings | D11: 180150 Fixed assets | E11: 900001 OP Bridge | F11: OP | G11: =-G5-G8 -> -340000 | H11: Reversal CUR posting
C12: Auto reversal delta postings | D12: 180150 Fixed assets | E12: 90002 Tax Bridge | F12: TAX | G12: =G11 -> -340000 | H12: =H11 -> Reversal CUR posting
B13: 42399 | C13: Bad debt reserve | D13: 618170 Bad Debt Expense | E13: 218170 Liab. for bad debt | F13: CUR | G13: 8000
C14: Bad debt reserve | D14: 618170 Bad Debt Expense | E14: 218170 Liab. for bad debt | F14: OP | G14: -500 | H14: Manual delta posting. Reserve local GAAP: $7500
C15: Bad debt reserve | D15: 618170 Bad Debt Expense | E15: 218170 Liab. for bad debt | F15: TAX | G15: -3000 | H15: Manual delta posting. Reserve TAX GAAP: 5000
B16: 42400 | C16: Depreciation FA No. 1 | D16: 607250 Depreciation expense | E16: 180250 Accum. Depreciation | F16: CUR | G16: =2083*12 -> 24996
C17: Depreciation FA No. 1 | D17: 607250 Depreciation expense | E17: 180250 Accum. Depreciation | F17: OP | G17: =1042*12 -> 12504
C18: Depreciation FA No. 1 | D18: 607250 Depreciation expense | E18: 180250 Accum. Depreciation | F18: TAX | G18: =694*12 -> 8328
C19: Depreciation FA No. 2 | D19: 607250 Depreciation expense | E19: 180250 Accum. Depreciation | F19: CUR | G19: 9000
C20: Depreciation FA No. 2 | D20: 607250 Depreciation expense | E20: 180250 Accum. Depreciation | F20: OP | G20: 4500
C21: Depreciation FA No. 2 | D21: 607250 Depreciation expense | E21: 180250 Accum. Depreciation | F21: TAX | G21: 3000
C22: Auto reversal delta postings | D22: 607250 Depreciation expense | E22: 180250 Accum. Depreciation | F22: OP | G22: =-G16-G19 -> -33996 | H22: =H12 -> Reversal CUR posting
C23: Auto reversal delta postings | D23: 607250 Depreciation expense | E23: 180250 Accum. Depreciation | F23: TAX | G23: =G22 -> -33996 | H23: =H22 -> Reversal CUR posting
B34: Assets | G34: Equity & Liabilities
D35: CUR | E35: OP | F35: TAX | I35: CUR | J35: OP | K35: TAX
B36: Fixed Assets | G36: Equity
B37: 180150 | C37: FA Trains EL | D37: 250000 | E37: 250000 | F37: 250000 | G37: 300110 | H37: Capital Stock | I37: -5000000
B38: 180250 | C38: FA Trains EL - Accum Depreciation | D38: -2083 | E38: -1041 | F38: -694 | G38: 300160 | H38: Retained Earnings
G39: 900001 | H39: Bridge OP Layer | J39: -250000
G40: 900002 | H40: Bridge TAX Layer | K40: -250000
B41: Current Assets | G41: Liablities
B42: 130100 | C42: Accounts Receivable | D42: 800000 | G42: 200100 | H42: Accounts Payable - Domestic | I42: -250000
B43: 110130 | C43: Bank Account - EUR | D43: 5000000 | G43: 218170 | H43: Other Contingent Liabilities for bad debt | I43: -8000 | J43: 500 | K43: 3000
B44: Total Assets | D44: =SUM(D36:D43) -> 6047917 | E44: =SUM(E36:E43) -> 248959 | F44: =SUM(F36:F43) -> 249306 | G44: Total Equity & Liabilities | I44: =SUM(I36:I43) -> -5258000 | J44: =SUM(J36:J43) -> -249500 | K44: =SUM(K36:K43) -> -247000
B48: P&L Statement
D49: CUR | E49: OP | F49: TAX
B50: Sales
B51: 401300 | C51: Other Revenues | D51: -800000
B52: Costs
B53: 607250 | C53: Depreciation Expense | D53: 2083 | E53: 1041 | F53: 694
B54: 618170 | C54: Bad Debt Expense | D54: 8000 | E54: -500 | F54: -3000
...

Sheet EX2-BSIS-A
B1: 31 Dec 2016
B3: Assets | G3: Equity & Liabilities
D4: CUR | E4: OP | F4: TAX | I4: CUR | J4: OP | K4: TAX
B5: Fixed Assets | G5: Equity
B6: 180150 | C6: FA Trains EL | D6: ='EX2-Postings 2016'!G5+'EX2-Postings 2016'!G8 -> 340000 | E6: ='EX2-Postings 2016'!G6+'EX2-Postings 2016'!G9+'EX2-Postings 2016'!G11 -> 0 | F6: ='EX2-Postings 2016'!G7+'EX2-Postings 2016'!G10+'EX2-Postings 2016'!G12 -> 0 | G6: 300110 | H6: Capital Stock | I6: =-'EX2-Postings 2016'!G3 -> -5000000
B7: 180250 | C7: FA Trains EL - Accum Depreciation | D7: =-'EX2-Postings 2016'!G16-'EX2-Postings 2016'!G19 -> -33996 | E7: =-'EX2-Postings 2016'!G17-'EX2-Postings 2016'!G20-'EX2-Postings 2016'!G22 -> 16992 | F7: =-'EX2-Postings 2016'!G18-'EX2-Postings 2016'!G21-'EX2-Postings 2016'!G23 -> 22668 | G7: 300160 | H7: Retained Earnings
G8: 900001 | H8: OP Bridge | J8: =-'EX2-Postings 2016'!G6-'EX2-Postings 2016'!G9-'EX2-Postings 2016'!G11 -> 0
G9: 900002 | H9: TAX Bridge | K9: =-'EX2-Postings 2016'!G7-'EX2-Postings 2016'!G10-'EX2-Postings 2016'!G12 -> 0
B10: Current Assets | G10: Liablities
B11: 130100 | C11: Accounts Receivable | D11: ='EX2-Postings 2016'!G4 -> 800000 | G11: 200100 | H11: Accounts Payable - Domestic | I11: =-'EX2-Postings 2016'!G5-'EX2-Postings 2016'!G8 -> -340000
B12: 110130 | C12: Bank Account - EUR | D12: ='EX2-Postings 2016'!G3 -> 5000000 | G12: 218170 | H12: Other Contingent Liabilities for bad debt | I12: =-'EX2-Postings 2016'!G13 -> -8000 | J12: =-'EX2-Postings 2016'!G14 -> 500 | K12: =-'EX2-Postings 2016'!G15 -> 3000
B13: Total Assets | D13: =SUM(D5:D12) -> 6106004 | E13: =SUM(E5:E12) -> 16992 | F13: =SUM(F5:F12) -> 22668 | G13: Total Equity & Liabilities | I13: =SUM(I5:I12) -> -5348000 | J13: =SUM(J5:J12) -> 500 | K13: =SUM(K5:K12) -> 3000
B17: P&L Statement
D18: CUR | E18: OP | F18: TAX
B19: Sales
B20: 401300 | C20: Other Revenues | D20: =-'EX2-Postings 2016'!G4 -> -800000
B21: Costs
B22: 607250 | C22: Depreciation Expense | D22: ='EX2-Postings 2016'!G16+'EX2-Postings 2016'!G19 -> 33996 | E22: ='EX2-Postings 2016'!G17+'EX2-Postings 2016'!G20+'EX2-Postings 2016'!G22 -> -16992 | F22: ='EX2-Postings 2016'!G18+'EX2-Postings 2016'!G21+'EX2-Postings 2016'!G23 -> -22668
B23: 618170 | C23: Bad Debt Expense | D23: ='EX2-Postings 2016'!G13 -> 8000 | E23: ='EX2-Postings 2016'!G14 -> -500 | F23: ='EX2-Postings 2016'!G15 -> -3000
B24: Total Profit/Loss | D24: =SUM(D19:D23) -> -758004 | E24: =SUM(E19:E23) -> -17492 | F24: =SUM(F19:F23) -> -25668

Sheet EX2-BSIS-B
B1: 31 Dec 2016
B3: Assets | I3: Equity & Liabilities
D4: CUR | E4: OP | F4: CUR+OP | G4: TAX | H4: CUR+TAX | K4: CUR | L4: OP | M4: CUR+OP | N4: TAX | O4: CUR+TAX
B5: Fixed Assets | I5: Equity
B6: 180150 | C6: FA Trains EL | D6: ='EX2-Postings 2016'!G5+'EX2-Postings 2016'!G8 -> 340000 | E6: ='EX2-Postings 2016'!G6+'EX2-Postings 2016'!G9+'EX2-Postings 2016'!G11 -> 0 | F6: =D6+E6 -> 340000 | G6: ='EX2-Postings 2016'!G7+'EX2-Postings 2016'!G10+'EX2-Postings 2016'!G12 -> 0 | H6: =D6+G6 -> 340000 | I6: 300110 | J6: Capital Stock | K6: =-'EX2-Postings 2016'!G3 -> -5000000 | M6: =K6+L6 -> -5000000 | O6: =K6+N6 -> -5000000
B7: 180250 | C7: FA Trains EL - Accum Depreciation | D7: =-'EX2-Postings 2016'!G16-'EX2-Postings 2016'!G19 -> -33996 | E7: =-'EX2-Postings 2016'!G17-'EX2-Postings 2016'!G20-'EX2-Postings 2016'!G22 -> 16992 | F7: =D7+E7 -> -17004 | G7: =-'EX2-Postings 2016'!G18-'EX2-Postings 2016'!G21-'EX2-Postings 2016'!G23 -> 22668 | H7: =D7+G7 -> -11328 | I7: 300160 | J7: Retained Earnings | M7: =K7+L7 -> 0 | O7: =K7+N7 -> 0
I8: 900001 | J8: OP Bridge | L8: =-'EX2-Postings 2016'!G6-'EX2-Postings 2016'!G9-'EX2-Postings 2016'!G11 -> 0 | M8: =K8+L8 -> 0 | O8: =K8+N8 -> 0
I9: 900002 | J9: TAX Bridge | M9: =K9+L9 -> 0 | N9: =-'EX2-Postings 2016'!G7-'EX2-Postings 2016'!G10-'EX2-Postings 2016'!G12 -> 0 | O9: =K9+N9 -> 0
B10: Current Assets | I10: Liablities | O10: =K10+N10 -> 0
B11: 130100 | C11: Accounts Receivable | D11: ='EX2-Postings 2016'!G4 -> 800000 | F11: =D11+E11 -> 800000 | H11: =D11+G11 -> 800000 | I11: 200100 | J11: Accounts Payable - Domestic | K11: =-'EX2-Postings 2016'!G5-'EX2-Postings 2016'!G8 -> -340000 | M11: =K11+L11 -> -340000 | O11: =K11+N11 -> -340000
B12: 110130 | C12: Bank Account - EUR | D12: ='EX2-Postings 2016'!G3 -> 5000000 | F12: =D12+E12 -> 5000000 | H12: =D12+G12 -> 5000000 | I12: 218170 | J12: Other Contingent Liabilities for bad debt | K12: =-'EX2-Postings 2016'!G13 -> -8000 | L12: =-'EX2-Postings 2016'!G14 -> 500 | M12: =K12+L12 -> -7500 | N12: =-'EX2-Postings 2016'!G15 -> 3000 | O12: =K12+N12 -> -5000
B13: Total Assets | D13: =SUM(D5:D12) -> 6106004 | E13: =SUM(E5:E12) -> 16992 | F13: =SUM(F5:F12) -> 6122996 | G13: =SUM(G5:G12) -> 22668 | H13: =SUM(H5:H12) -> 6128672 | I13: Total Equity & Liabilities | K13: =SUM(K5:K12) -> -5348000 | L13: =SUM(L5:L12) -> 500 | M13: =SUM(M5:M12) -> -5347500 | N13: =SUM(N5:N12) -> 3000 | O13: =SUM(O6:O12) -> -5345000
B17: P&L Statement
D18: CUR | E18: OP | F18: CUR+OP | G18: TAX | H18: CUR+TAX
B19: Sales
B20: 401300 | C20: Other Revenues | D20: =-'EX2-Postings 2016'!G4 -> -800000 | F20: =D20+E20 -> -800000 | H20: =D20+G20 -> -800000
B21: Costs | H21: =D21+G21 -> 0
B22: 607250 | C22: Depreciation Expense | D22: ='EX2-Postings 2016'!G16+'EX2-Postings 2016'!G19 -> 33996 | E22: ='EX2-Postings 2016'!G17+'EX2-Postings 2016'!G20+'EX2-Postings 2016'!G22 -> -16992 | F22: =D22+E22 -> 17004 | G22: ='EX2-Postings 2016'!G18+'EX2-Postings 2016'!G21+'EX2-Postings 2016'!G23 -> -22668 | H22: =D22+G22 -> 11328
B23: 618170 | C23: Bad Debt Expense | D23: ='EX2-Postings 2016'!G13 -> 8000 | E23: ='EX2-Postings 2016'!G14 -> -500 | F23: =D23+E23 -> 7500 | G23: ='EX2-Postings 2016'!G15 -> -3000 | H23: =D23+G23 -> 5000
B24: Total Profit/Loss | D24: =SUM(D19:D23) -> -758004 | E24: =SUM(E19:E23) -> -17492 | F24: =SUM(F19:F23) -> -775496 | G24: =SUM(G19:G23) -> -25668 | H24: =SUM(H19:H23) -> -783672

Sheet YE2016 Voucher
B5: Journal number | C5: Voucher | D5: Date | E5: Ledger account | F5: Account name | G5: Description | H5: Currency | I5: Amount in transaction currency | J5: Posting type | K5: Posting layer
B6: DE20-000054 | C6: YE2016-DE20a | D6: 42736 | E6: 200100-- | F6: Accounts Payable - Domestic | H6: EUR | I6: -340000 | K6: Current
B7: DE20-000054 | C7: YE2016-DE20a | D7: 42736 | E7: 300160-- | F7: Retained Earnings | H7: EUR | I7: -758004 | K7: Current
B8: DE20-000054 | C8: YE2016-DE20a | D8: 42736 | E8: 110130-- | F8: Bank Account - EUR | H8: EUR | I8: 5000000 | K8: Current
B9: DE20-000054 | C9: YE2016-DE20a | D9: 42736 | E9: 130100-- | F9: Accounts Receivable - Domestic | H9: EUR | I9: 800000 | K9: Current
B10: DE20-000054 | C10: YE2016-DE20a | D10: 42736 | E10: 300110-- | F10: Capital Stock | H10: EUR | I10: -5000000 | K10: Current
B11: DE20-000054 | C11: YE2016-DE20a | D11: 42736 | E11: 180150-- | F11: Trains Electric | H11: EUR | I11: 340000 | K11: Current
B12: DE20-000054 | C12: YE2016-DE20a | D12: 42736 | E12: 218170-- | F12: Other contingent liabilities for bad debt | H12: EUR | I12: -8000 | K12: Current
B13: DE20-000054 | C13: YE2016-DE20a | D13: 42736 | E13: 180250-- | F13: Trains Electric - Accum. Depreciation | H13: EUR | I13: -33996 | K13: Current
B14: DE20-000055 | C14: YE2016-DE20a | D14: 42736 | E14: 300160-- | F14: Retained Earnings | H14: EUR | I14: -17492 | K14: Operations
B15: DE20-000055 | C15: YE2016-DE20a | D15: 42736 | E15: 218170-- | F15: Other contingent liabilities for bad debt | H15: EUR | I15: 500 | K15: Operations
B16: DE20-000055 | C16: YE2016-DE20a | D16: 42736 | E16: 180250-- | F16: Trains Electric - Accum. Depreciation | H16: EUR | I16: 16992 | K16: Operations
B17: DE20-000056 | C17: YE2016-DE20a | D17: 42736 | E17: 300160-- | F17: Retained Earnings | H17: EUR | I17: -25668 | K17: Tax
... B19: DE20-000056 | C19: YE2016-DE20a | D19: 42736 | E19: 180250-- | F19: Trains Electric - Accum. Depreciation | H19: EUR | I19: 22668 | K19: Tax
E22: CUR + OP | I22: =I7+I14 -> -775496
E24: CUR + TAX | I24: =I7+I17 -> -783672

Sheet EX2-BSIS-C
B1: 42736
B3: Assets | I3: Equity & Liabilities
D4: CUR | E4: OP | F4: CUR+OP | G4: TAX | H4: CUR+TAX | K4: CUR | L4: OP | M4: CUR+OP | N4: TAX | O4: CUR+TAX
B5: Fixed Assets | I5: Equity
B6: 180150 | C6: FA Trains EL | D6: ='EX2-Postings 2016'!G5+'EX2-Postings 2016'!G8 -> 340000 | E6: ='EX2-Postings 2016'!G6+'EX2-Postings 2016'!G9+'EX2-Postings 2016'!G11 -> 0 | F6: =D6+E6 -> 340000 | G6: ='EX2-Postings 2016'!G7+'EX2-Postings 2016'!G10+'EX2-Postings 2016'!G12 -> 0 | H6: =D6+G6 -> 340000 | I6: 300110 | J6: Capital Stock | K6: =-'EX2-Postings 2016'!G3 -> -5000000 | M6: =K6+L6 -> -5000000 | O6: =K6+N6 -> -5000000
B7: 180250 | C7: FA Trains EL - Accum Depreciation | D7: =-'EX2-Postings 2016'!G16-'EX2-Postings 2016'!G19 -> -33996 | E7: =-'EX2-Postings 2016'!G17-'EX2-Postings 2016'!G20-'EX2-Postings 2016'!G22 -> 16992 | F7: =D7+E7 -> -17004 | G7: =-'EX2-Postings 2016'!G18-'EX2-Postings 2016'!G21-'EX2-Postings 2016'!G23 -> 22668 | H7: =D7+G7 -> -11328 | I7: 300160 | J7: Retained Earnings | K7: =Tabelle3[[#This Row],[Amount in transaction currency]] -> -758004 | L7: ='YE2016 Voucher'!I14 -> -17492 | M7: =K7+L7 -> -775496 | N7: ='YE2016 Voucher'!I17 -> -25668 | O7: =K7+N7 -> -783672
I8: 900001 | J8: OP Bridge | L8: =-'EX2-Postings 2016'!G6-'EX2-Postings 2016'!G9-'EX2-Postings 2016'!G11 -> 0 | M8: =K8+L8 -> 0 | O8: =K8+N8 -> 0
I9: 900002 | J9: TAX Bridge | M9: =K9+L9 -> 0 | N9: =-'EX2-Postings 2016'!G7-'EX2-Postings 2016'!G10-'EX2-Postings 2016'!G12 -> 0 | O9: =K9+N9 -> 0
B10: Current Assets | I10: Liablities | O10: =K10+N10 -> 0
B11: 130100 | C11: Accounts Receivable | D11: ='EX2-Postings 2016'!G4 -> 800000 | F11: =D11+E11 -> 800000 | H11: =D11+G11 -> 800000 | I11: 200100 | J11: Accounts Payable - Domestic | K11: =-'EX2-Postings 2016'!G5-'EX2-Postings 2016'!G8 -> -340000 | M11: =K11+L11 -> -340000 | O11: =K11+N11 -> -340000
B12: 110130 | C12: Bank Account - EUR | D12: ='EX2-Postings 2016'!G3 -> 5000000 | F12: =D12+E12 -> 5000000 | H12: =D12+G12 -> 5000000 | I12: 218170 | J12: Other Contingent Liabilities for bad debt | K12: =-'EX2-Postings 2016'!G13 -> -8000 | L12: =-'EX2-Postings 2016'!G14 -> 500 | M12: =K12+L12 -> -7500 | N12: =-'EX2-Postings 2016'!G15 -> 3000 | O12: =K12+N12 -> -5000
B13: Total Assets | D13: =SUM(D5:D12) -> 6106004 | E13: =SUM(E5:E12) -> 16992 | F13: =SUM(F5:F12) -> 6122996 | G13: =SUM(G5:G12) -> 22668 | H13: =SUM(H5:H12) -> 6128672 | I13: Total Equity & Liabilities | K13: =SUM(K5:K12) -> -6106004 | L13: =SUM(L5:L12) -> -16992 | M13: =SUM(M5:M12) -> -6122996 | N13: =SUM(N5:N12) -> -22668 | O13: =SUM(O6:O12) -> -6128672
B17: P&L Statement
D18: CUR | E18: OP | F18: CUR+OP | G18: TAX | H18: CUR+TAX
B19: Sales
B20: 401300 | C20: Other Revenues
B21: Costs
B22: 607250 | C22: Depreciation Expense
B23: 618170 | C23: Bad Debt Expense
B24: Total Profit/Loss | D24: =SUM(D19:D23) -> 0 | E24: =SUM(E19:E23) -> 0 | F24: =SUM(F19:F23) -> 0 | G24: =SUM(G19:G23) -> 0 | H24: =SUM(H19:H23) -> 0

Sheet EX2-Postings 2017
B2: Date | C2: Transaction | D2: DR | E2: CR | F2: Layer | G2: Amount | H2: Comment
B3: 42768 | C3: Revaluation CUR layer only | D3: 180260 | E3: 607260 | F3: CUR | G3: 1000
D4: 180260 | E4: 607260 | F4: OP | G4: =-G3 -> -1000 | H4: Reversal CUR posting
D5: 180260 | E5: 607260 | F5: TAX | G5: =G4 -> -1000 | H5: =H4 -> Reversal CUR posting
B6: 42797 | C6: Scrap Fixed Asset No 1 | D6: 607250 | E6: 180150 | F6: CUR | G6: 226004
D7: 607250 | E7: 180150 | F7: OP | G7: 237496
D8: 607250 | E8: 180150 | F8: TAX | G8: 241672
D9: 607250 | E9: 180150 | F9: OP | G9: =-G6 -> -226004 | H9: Reversal CUR posting
D10: 607250 | E10: 180150 | F10: TAX | G10: =G9 -> -226004 | H10: =H9 -> Reversal CUR posting

Sheet EX2-BSIS-D
B1: 43100
B3: Assets | I3: Equity & Liabilities
D4: CUR | E4: OP | F4: CUR+OP | G4: TAX | H4: CUR+TAX | K4: CUR | L4: OP | M4: CUR+OP | N4: TAX | O4: CUR+TAX
B5: Fixed Assets | I5: Equity
B6: 180150 | C6: FA Trains EL | D6: ='EX2-Postings 2016'!G5+'EX2-Postings 2016'!G8-'EX2-Postings 2017'!G6 -> 113996 | E6: ='EX2-Postings 2016'!G6+'EX2-Postings 2016'!G9+'EX2-Postings 2016'!G11-'EX2-Postings 2017'!G7-'EX2-Postings 2017'!G9 -> -11492 | F6: =D6+E6 -> 102504 | G6: ='EX2-Postings 2016'!G7+'EX2-Postings 2016'!G10+'EX2-Postings 2016'!G12-'EX2-Postings 2017'!G8-'EX2-Postings 2017'!G10 -> -15668 | H6: =D6+G6 -> 98328 | I6: 300110 | J6: Capital Stock | K6: =-'EX2-Postings 2016'!G3 -> -5000000 | M6: =K6+L6 -> -5000000 | O6: =K6+N6 -> -5000000
B7: 180250 | C7: FA Trains EL - Accum Depreciation | D7: =-'EX2-Postings 2016'!G16-'EX2-Postings 2016'!G19 -> -33996 | E7: =-'EX2-Postings 2016'!G17-'EX2-Postings 2016'!G20-'EX2-Postings 2016'!G22 -> 16992 | F7: =D7+E7 -> -17004 | G7: =-'EX2-Postings 2016'!G18-'EX2-Postings 2016'!G21-'EX2-Postings 2016'!G23 -> 22668 | H7: =D7+G7 -> -11328 | I7: 300160 | J7: Retained Earnings | K7: =Tabelle3[[#This Row],[Amount in transaction currency]] -> -758004 | L7: ='YE2016 Voucher'!I14 -> -17492 | M7: =K7+L7 -> -775496 | N7: ='YE2016 Voucher'!I17 -> -25668 | O7: =K7+N7 -> -783672
B8: 180260 | C8: FA Trains EL - Accum Revaluations | D8: ='EX2-Postings 2017'!G3 -> 1000 | E8: ='EX2-Postings 2017'!G4 -> -1000 | F8: =D8+E8 -> 0 | G8: ='EX2-Postings 2017'!G5 -> -1000 | H8: =D8+G8 -> 0 | I8: 900001 | J8: OP Bridge | L8: =-'EX2-Postings 2016'!G6-'EX2-Postings 2016'!G9-'EX2-Postings 2016'!G11 -> 0 | M8: =K8+L8 -> 0 | O8: =K8+N8 -> 0
I9: 900002 | J9: TAX Bridge | M9: =K9+L9 -> 0 | N9: =-'EX2-Postings 2016'!G7-'EX2-Postings 2016'!G10-'EX2-Postings 2016'!G12 -> 0 | O9: =K9+N9 -> 0
B10: Current Assets | I10: Liablities | O10: =K10+N10 -> 0
B11: 130100 | C11: Accounts Receivable | D11: ='EX2-Postings 2016'!G4 -> 800000 | F11: =D11+E11 -> 800000 | H11: =D11+G11 -> 800000 | I11: 200100 | J11: Accounts Payable - Domestic | K11: =-'EX2-Postings 2016'!G5-'EX2-Postings 2016'!G8 -> -340000 | M11: =K11+L11 -> -340000 | O11: =K11+N11 -> -340000
B12: 110130 | C12: Bank Account - EUR | D12: ='EX2-Postings 2016'!G3 -> 5000000 | F12: =D12+E12 -> 5000000 | H12: =D12+G12 -> 5000000 | I12: 218170 | J12: Other Contingent Liabilities for bad debt | K12: =-'EX2-Postings 2016'!G13 -> -8000 | L12: =-'EX2-Postings 2016'!G14 -> 500 | M12: =K12+L12 -> -7500 | N12: =-'EX2-Postings 2016'!G15 -> 3000 | O12: =K12+N12 -> -5000
B13: Total Assets | D13: =SUM(D5:D12) -> 5881000 | E13: =SUM(E5:E12) -> 4500 | F13: =SUM(F5:F12) -> 5885500 | G13: =SUM(G5:G12) -> 6000 | H13: =SUM(H5:H12) -> 5887000 | I13: Total Equity & Liabilities | K13: =SUM(K5:K12) -> -6106004 | L13: =SUM(L5:L12) -> -16992 | M13: =SUM(M5:M12) -> -6122996 | N13: =SUM(N5:N12) -> -22668 | O13: =SUM(O6:O12) -> -6128672
B17: P&L Statement
D18: CUR | E18: OP | F18: CUR+OP | G18: TAX | H18: CUR+TAX
B19: Sales
B20: 401300 | C20: Other Revenues
B21: Costs
B22: 607250 | C22: Depreciation Expense | D22: ='EX2-Postings 2017'!G6 -> 226004 | E22: ='EX2-Postings 2017'!G7+'EX2-Postings 2017'!G9 -> 11492 | F22: =D22+E22 -> 237496 | G22: ='EX2-Postings 2017'!G8+'EX2-Postings 2017'!G10 -> 15668 | H22: =D22+G22 -> 241672
B23: 607260 | C23: Revaluation costs | D23: =-'EX2-Postings 2017'!G3 -> -1000 | E23: =-'EX2-Postings 2017'!G4 -> 1000 | F23: =D23+E23 -> 0 | G23: =-'EX2-Postings 2017'!G5 -> 1000 | H23: =D23+G23 -> 0
B24: 618170 | C24: Bad Debt Expense
B25: Total Profit/Loss | D25: =SUM(D19:D24) -> 225004 | E25: =SUM(E19:E24) -> 12492 | F25: =SUM(F19:F24) -> 237496 | G25: =SUM(G19:G24) -> 16668 | H25: =SUM(H19:H24) -> 241672

Sheet YE2017 Voucher
D4: Journal number | E4: Voucher | F4: Date | G4: Year closed | H4: Ledger account | I4: Account name | J4: Description | K4: Currency | L4: Amount in transaction currency | M4: Posting type | N4: Posting layer | O4: Created by | P4: Created date and time
D5: DE20-000057 | E5: YE2017-DE20 | F5: 43101 | G5: No | H5: 180260-- | I5: Accum. Revaluations | K5: EUR | L5: 1000 | N5: Current | O5: ludwig | P5: 43342.25
D6: DE20-000057 | E6: YE2017-DE20 | F6: 43101 | G6: No | H6: 180250-- | I6: Trains Electric - Accum. Depreciation | K6: EUR | L6: -33996 | N6: Current | O6: ludwig | P6: 43342.25
D7: DE20-000057 | E7: YE2017-DE20 | F7: 43101 | G7: No | H7: 218170-- | I7: Other contingent liabilities for bad debt | K7: EUR | L7: -8000 | N7: Current | O7: ludwig | P7: 43342.25
D8: DE20-000057 | E8: YE2017-DE20 | F8: 43101 | G8: No | H8: 180150-- | I8: Trains Electric | K8: EUR | L8: 113996 | N8: Current | O8: ludwig | P8: 43342.25
D9: DE20-000057 | E9: YE2017-DE20 | F9: 43101 | G9: No | H9: 300110-- | I9: Capital Stock | K9: EUR | L9: -5000000 | N9: Current | O9: ludwig | P9: 43342.25
D10: DE20-000057 | E10: YE2017-DE20 | F10: 43101 | G10: No | H10: 130100-- | I10: Accounts Receivable - Domestic | K10: EUR | L10: 800000 | N10: Current | O10: ludwig | P10: 43342.25
D11: DE20-000057 | E11: YE2017-DE20 | F11: 43101 | G11: No | H11: 110130-- | I11: Bank Account - EUR | K11: EUR | L11: 5000000 | N11: Current | O11: ludwig | P11: 43342.25
D12: DE20-000057 | E12: YE2017-DE20 | F12: 43101 | G12: No | H12: 300160-- | I12: Retained Earnings | K12: EUR | L12: -533000 | N12: Current | O12: ludwig | P12: 43342.25
D13: DE20-000057 | E13: YE2017-DE20 | F13: 43101 | G13: No | H13: 200100-- | I13: Accounts Payable - Domestic | K13: EUR | L13: -340000 | N13: Current | O13: ludwig | P13: 43342.25
D14: DE20-000058 | E14: YE2017-DE20 | F14: 43101 | G14: No | H14: 180260-- | I14: Accum. Revaluations | K14: EUR | L14: -1000 | N14: Operations | O14: ludwig | P14: 43342.25
D15: DE20-000058 | E15: YE2017-DE20 | F15: 43101 | G15: No | H15: 180250-- | I15: Trains Electric - Accum. Depreciation | K15: EUR | L15: 16992 | N15: Operations | O15: ludwig | P15: 43342.25
D16: DE20-000058 | E16: YE2017-DE20 | F16: 43101 | G16: No | H16: 218170-- | I16: Other contingent liabilities for bad debt | K16: EUR | L16: 500 | N16: Operations | O16: ludwig | P16: 43342.25
... D23: DE20-000059 | E23: YE2017-DE20 | F23: 43101 | G23: No | H23: 300160-- | I23: Retained Earnings | K23: EUR | L23: -9000 | N23: Tax | O23: ludwig | P23: 43342.25
H26: CUR + OP | L26: =L12+L18 -> -538000
H28: CUR + TAX | L28: =L12+L23 -> -542000

Sheet EX2-BSIS-E
B1: 43101
B3: Assets | I3: Equity & Liabilities
D4: CUR | E4: OP | F4: CUR+OP | G4: TAX | H4: CUR+TAX | K4: CUR | L4: OP | M4: CUR+OP | N4: TAX | O4: CUR+TAX
B5: Fixed Assets | I5: Equity
B6: 180150 | C6: FA Trains EL | D6: ='EX2-Postings 2016'!G5+'EX2-Postings 2016'!G8-'EX2-Postings 2017'!G6 -> 113996 | E6: ='EX2-Postings 2016'!G6+'EX2-Postings 2016'!G9+'EX2-Postings 2016'!G11-'EX2-Postings 2017'!G7-'EX2-Postings 2017'!G9 -> -11492 | F6: =D6+E6 -> 102504 | G6: ='EX2-Postings 2016'!G7+'EX2-Postings 2016'!G10+'EX2-Postings 2016'!G12-'EX2-Postings 2017'!G8-'EX2-Postings 2017'!G10 -> -15668 | H6: =D6+G6 -> 98328 | I6: 300110 | J6: Capital Stock | K6: =-'EX2-Postings 2016'!G3 -> -5000000 | M6: =K6+L6 -> -5000000 | O6: =K6+N6 -> -5000000
B7: 180250 | C7: FA Trains EL - Accum Depreciation | D7: =-'EX2-Postings 2016'!G16-'EX2-Postings 2016'!G19 -> -33996 | E7: =-'EX2-Postings 2016'!G17-'EX2-Postings 2016'!G20-'EX2-Postings 2016'!G22 -> 16992 | F7: =D7+E7 -> -17004 | G7: =-'EX2-Postings 2016'!G18-'EX2-Postings 2016'!G21-'EX2-Postings 2016'!G23 -> 22668 | H7: =D7+G7 -> -11328 | I7: 300160 | J7: Retained Earnings | K7: ='YE2017 Voucher'!L12 -> -533000 | L7: ='YE2017 Voucher'!L18 -> -5000 | M7: =K7+L7 -> -538000 | N7: ='YE2017 Voucher'!L23 -> -9000 | O7: =K7+N7 -> -542000
B8: 180260 | C8: FA Trains EL - Accum Revaluations | D8: ='EX2-Postings 2017'!G3 -> 1000 | E8: ='EX2-Postings 2017'!G4 -> -1000 | F8: =D8+E8 -> 0 | G8: ='EX2-Postings 2017'!G5 -> -1000 | H8: =D8+G8 -> 0 | I8: 900001 | J8: OP Bridge | L8: =-'EX2-Postings 2016'!G6-'EX2-Postings 2016'!G9-'EX2-Postings 2016'!G11 -> 0 | M8: =K8+L8 -> 0 | O8: =K8+N8 -> 0
I9: 900002 | J9: TAX Bridge | M9: =K9+L9 -> 0 | N9: =-'EX2-Postings 2016'!G7-'EX2-Postings 2016'!G10-'EX2-Postings 2016'!G12 -> 0 | O9: =K9+N9 -> 0
B10: Current Assets | I10: Liablities | O10: =K10+N10 -> 0
B11: 130100 | C11: Accounts Receivable | D11: ='EX2-Postings 2016'!G4 -> 800000 | F11: =D11+E11 -> 800000 | H11: =D11+G11 -> 800000 | I11: 200100 | J11: Accounts Payable - Domestic | K11: =-'EX2-Postings 2016'!G5-'EX2-Postings 2016'!G8 -> -340000 | M11: =K11+L11 -> -340000 | O11: =K11+N11 -> -340000
B12: 110130 | C12: Bank Account - EUR | D12: ='EX2-Postings 2016'!G3 -> 5000000 | F12: =D12+E12 -> 5000000 | H12: =D12+G12 -> 5000000 | I12: 218170 | J12: Other Contingent Liabilities for bad debt | K12: =-'EX2-Postings 2016'!G13 -> -8000 | L12: =-'EX2-Postings 2016'!G14 -> 500 | M12: =K12+L12 -> -7500 | N12: =-'EX2-Postings 2016'!G15 -> 3000 | O12: =K12+N12 -> -5000
B13: Total Assets | D13: =SUM(D5:D12) -> 5881000 | E13: =SUM(E5:E12) -> 4500 | F13: =SUM(F5:F12) -> 5885500 | G13: =SUM(G5:G12) -> 6000 | H13: =SUM(H5:H12) -> 5887000 | I13: Total Equity & Liabilities | K13: =SUM(K5:K12) -> -5881000 | L13: =SUM(L5:L12) -> -4500 | M13: =SUM(M5:M12) -> -5885500 | N13: =SUM(N5:N12) -> -6000 | O13: =SUM(O6:O12) -> -5887000
B17: P&L Statement
D18: CUR | E18: OP | F18: CUR+OP | G18: TAX | H18: CUR+TAX
B19: Sales
B20: 401300 | C20: Other Revenues
B21: Costs
B22: 607250 | C22: Depreciation Expense
B23: 607260 | C23: Revaluation costs
B24: 618170 | C24: Bad Debt Expense
B25: Total Profit/Loss | D25: =SUM(D19:D24) -> 0 | E25: =SUM(E19:E24) -> 0 | F25: =SUM(F19:F24) -> 0 | G25: =SUM(G19:G24) -> 0 | H25: =SUM(H19:H24) -> 0

Sheet EX2-Postings 2018
B2: Date | C2: Transaction | D2: DR | E2: CR | F2: Layer | G2: Amount | H2: Comment
B3: 43194 | C3: Sale Fixed Asset No 2 | D3: 130100 | E3: 401300 | F3: CUR | G3: 500000
D4: 607250 | E4: 180150 | F4: CUR | G4: =SUM('EX2-BSIS-E'!D6:D8) -> 81000
D5: 607250 | E5: 180150 | F5: OP | G5: =SUM('EX2-BSIS-E'!F6:F8) -> 85500
D6: 607250 | E6: 180150 | F6: TAX | G6: =SUM('EX2-BSIS-E'!H6:H8) -> 87000
D7: 607250 | E7: 180150 | F7: OP | G7: =-G4 -> -81000 | H7: Reversal CUR posting
D8: 607250 | E8: 180150 | F8: TAX | G8: =G7 -> -81000 | H8: =H7 -> Reversal CUR posting

Sheet EX2-BSIS-F
B1: 43465
B3: Assets | I3: Equity & Liabilities
D4: CUR | E4: OP | F4: CUR+OP | G4: TAX | H4: CUR+TAX | K4: CUR | L4: OP | M4: CUR+OP | N4: TAX | O4: CUR+TAX
B5: Fixed Assets | I5: Equity
B6: 180150 | C6: FA Trains EL | D6: ='EX2-Postings 2016'!G5+'EX2-Postings 2016'!G8-'EX2-Postings 2017'!G6-'EX2-Postings 2018'!G4 -> 32996 | E6: ='EX2-Postings 2016'!G6+'EX2-Postings 2016'!G9+'EX2-Postings 2016'!G11-'EX2-Postings 2017'!G7-'EX2-Postings 2017'!G9-'EX2-Postings 2018'!G5-'EX2-Postings 2018'!G7 -> -15992 | F6: =D6+E6 -> 17004 | G6: ='EX2-Postings 2016'!G7+'EX2-Postings 2016'!G10+'EX2-Postings 2016'!G12-'EX2-Postings 2017'!G8-'EX2-Postings 2017'!G10-'EX2-Postings 2018'!G6-'EX2-Postings 2018'!G8 -> -21668 | H6: =D6+G6 -> 11328 | I6: 300110 | J6: Capital Stock | K6: =-'EX2-Postings 2016'!G3 -> -5000000 | M6: =K6+L6 -> -5000000 | O6: =K6+N6 -> -5000000
B7: 180250 | C7: FA Trains EL - Accum Depreciation | D7: =-'EX2-Postings 2016'!G16-'EX2-Postings 2016'!G19 -> -33996 | E7: =-'EX2-Postings 2016'!G17-'EX2-Postings 2016'!G20-'EX2-Postings 2016'!G22 -> 16992 | F7: =D7+E7 -> -17004 | G7: =-'EX2-Postings 2016'!G18-'EX2-Postings 2016'!G21-'EX2-Postings 2016'!G23 -> 22668 | H7: =D7+G7 -> -11328 | I7: 300160 | J7: Retained Earnings | K7: ='YE2017 Voucher'!L12 -> -533000 | L7: ='YE2017 Voucher'!L18 -> -5000 | M7: =K7+L7 -> -538000 | N7: ='YE2017 Voucher'!L23 -> -9000 | O7: =K7+N7 -> -542000
B8: 180260 | C8: FA Trains EL - Accum Revaluations | D8: ='EX2-Postings 2017'!G3 -> 1000 | E8: ='EX2-Postings 2017'!G4 -> -1000 | F8: =D8+E8 -> 0 | G8: ='EX2-Postings 2017'!G5 -> -1000 | H8: =D8+G8 -> 0 | I8: 900001 | J8: OP Bridge | L8: =-'EX2-Postings 2016'!G6-'EX2-Postings 2016'!G9-'EX2-Postings 2016'!G11 -> 0 | M8: =K8+L8 -> 0 | O8: =K8+N8 -> 0
I9: 900002 | J9: TAX Bridge | M9: =K9+L9 -> 0 | N9: =-'EX2-Postings 2016'!G7-'EX2-Postings 2016'!G10-'EX2-Postings 2016'!G12 -> 0 | O9: =K9+N9 -> 0
B10: Current Assets | I10: Liablities | O10: =K10+N10 -> 0
B11: 130100 | C11: Accounts Receivable | D11: ='EX2-Postings 2016'!G4+'EX2-Postings 2018'!G3 -> 1300000 | F11: =D11+E11 -> 1300000 | H11: =D11+G11 -> 1300000 | I11: 200100 | J11: Accounts Payable - Domestic | K11: =-'EX2-Postings 2016'!G5-'EX2-Postings 2016'!G8 -> -340000 | M11: =K11+L11 -> -340000 | O11: =K11+N11 -> -340000
B12: 110130 | C12: Bank Account - EUR | D12: ='EX2-Postings 2016'!G3 -> 5000000 | F12: =D12+E12 -> 5000000 | H12: =D12+G12 -> 5000000 | I12: 218170 | J12: Other Contingent Liabilities for bad debt | K12: =-'EX2-Postings 2016'!G13 -> -8000 | L12: =-'EX2-Postings 2016'!G14 -> 500 | M12: =K12+L12 -> -7500 | N12: =-'EX2-Postings 2016'!G15 -> 3000 | O12: =K12+N12 -> -5000
B13: Total Assets | D13: =SUM(D5:D12) -> 6300000 | E13: =SUM(E5:E12) -> 0 | F13: =SUM(F5:F12) -> 6300000 | G13: =SUM(G5:G12) -> 0 | H13: =SUM(H5:H12) -> 6300000 | I13: Total Equity & Liabilities | K13: =SUM(K5:K12) -> -5881000 | L13: =SUM(L5:L12) -> -4500 | M13: =SUM(M5:M12) -> -5885500 | N13: =SUM(N5:N12) -> -6000 | O13: =SUM(O6:O12) -> -5887000
B17: P&L Statement
D18: CUR | E18: OP | F18: CUR+OP | G18: TAX | H18: CUR+TAX
B19: Sales
B20: 401300 | C20: Other Revenues | D20: =-'EX2-Postings 2018'!G3 -> -500000 | F20: =D20+E20 -> -500000 | H20: =D20+G20 -> -500000
B21: Costs
B22: 607250 | C22: Depreciation Expense | D22: ='EX2-Postings 2018'!G4 -> 81000 | E22: ='EX2-Postings 2018'!G5+'EX2-Postings 2018'!G7 -> 4500 | F22: =D22+E22 -> 85500 | G22: ='EX2-Postings 2018'!G6+'EX2-Postings 2018'!G8 -> 6000 | H22: =D22+G22 -> 87000
B23: 607260 | C23: Revaluation costs
B24: 618170 | C24: Bad Debt Expense
B25: Total Profit/Loss | D25: =SUM(D19:D24) -> -419000 | E25: =SUM(E19:E24) -> 4500 | F25: =SUM(F19:F24) -> -414500 | G25: =SUM(G19:G24) -> 6000 | H25: =SUM(H19:H24) -> -413000
